BEGIN:VCALENDAR
VERSION:2.0
PRODID:-//NPower Services - ECPv6.15.20//NONSGML v1.0//EN
CALSCALE:GREGORIAN
METHOD:PUBLISH
X-WR-CALNAME:NPower Services
X-ORIGINAL-URL:https://npowerservices.com
X-WR-CALDESC:Events for NPower Services
REFRESH-INTERVAL;VALUE=DURATION:PT1H
X-Robots-Tag:noindex
X-PUBLISHED-TTL:PT1H
BEGIN:VTIMEZONE
TZID:America/New_York
BEGIN:DAYLIGHT
TZOFFSETFROM:-0500
TZOFFSETTO:-0400
TZNAME:EDT
DTSTART:20230312T070000
END:DAYLIGHT
BEGIN:STANDARD
TZOFFSETFROM:-0400
TZOFFSETTO:-0500
TZNAME:EST
DTSTART:20231105T060000
END:STANDARD
BEGIN:DAYLIGHT
TZOFFSETFROM:-0500
TZOFFSETTO:-0400
TZNAME:EDT
DTSTART:20240310T070000
END:DAYLIGHT
BEGIN:STANDARD
TZOFFSETFROM:-0400
TZOFFSETTO:-0500
TZNAME:EST
DTSTART:20241103T060000
END:STANDARD
BEGIN:DAYLIGHT
TZOFFSETFROM:-0500
TZOFFSETTO:-0400
TZNAME:EDT
DTSTART:20250309T070000
END:DAYLIGHT
BEGIN:STANDARD
TZOFFSETFROM:-0400
TZOFFSETTO:-0500
TZNAME:EST
DTSTART:20251102T060000
END:STANDARD
END:VTIMEZONE
BEGIN:VEVENT
DTSTART;TZID=America/New_York:20240301T100000
DTEND;TZID=America/New_York:20240301T130000
DTSTAMP:20260422T175737
CREATED:20240213T180504Z
LAST-MODIFIED:20240213T180504Z
UID:10000672-1709287200-1709298000@npowerservices.com
SUMMARY:Project: Kindness - Rock Your Socks with DSANO!
DESCRIPTION:Friday\, March 1\n10 a.m. – 1 p.m.\nDown Syndrome Association of NorthEast Ohio (6533-B Brecksville Road / Independence)\n\nCome on out and help the Down Syndrome Association with their awareness campaign! We’re going to head to their office to mismatch socks\, prepare orders for pick up\, and orders for shipping. We’ll have fun and feel great about helping out!
URL:https://npowerservices.com/event/project-kindness-rock-your-socks-with-dsano/
LOCATION:Down Syndrome Association of Northeast Ohio\, 6533-B Brecksville Road\, Independence\, OH\, United States
END:VEVENT
END:VCALENDAR