BEGIN:VCALENDAR
VERSION:2.0
PRODID:-//NPower Services - ECPv6.15.20//NONSGML v1.0//EN
CALSCALE:GREGORIAN
METHOD:PUBLISH
X-ORIGINAL-URL:https://npowerservices.com
X-WR-CALDESC:Events for NPower Services
REFRESH-INTERVAL;VALUE=DURATION:PT1H
X-Robots-Tag:noindex
X-PUBLISHED-TTL:PT1H
BEGIN:VTIMEZONE
TZID:America/New_York
BEGIN:DAYLIGHT
TZOFFSETFROM:-0500
TZOFFSETTO:-0400
TZNAME:EDT
DTSTART:20230312T070000
END:DAYLIGHT
BEGIN:STANDARD
TZOFFSETFROM:-0400
TZOFFSETTO:-0500
TZNAME:EST
DTSTART:20231105T060000
END:STANDARD
BEGIN:DAYLIGHT
TZOFFSETFROM:-0500
TZOFFSETTO:-0400
TZNAME:EDT
DTSTART:20240310T070000
END:DAYLIGHT
BEGIN:STANDARD
TZOFFSETFROM:-0400
TZOFFSETTO:-0500
TZNAME:EST
DTSTART:20241103T060000
END:STANDARD
BEGIN:DAYLIGHT
TZOFFSETFROM:-0500
TZOFFSETTO:-0400
TZNAME:EDT
DTSTART:20250309T070000
END:DAYLIGHT
BEGIN:STANDARD
TZOFFSETFROM:-0400
TZOFFSETTO:-0500
TZNAME:EST
DTSTART:20251102T060000
END:STANDARD
END:VTIMEZONE
BEGIN:VEVENT
DTSTART;TZID=America/New_York:20240309T180000
DTEND;TZID=America/New_York:20240309T200000
DTSTAMP:20260423T025951
CREATED:20240212T172100Z
LAST-MODIFIED:20240212T172100Z
UID:10000577-1710007200-1710014400@npowerservices.com
SUMMARY:RockAbility plays the MUMS Formal Winter Ball
DESCRIPTION:Sat.\, March 9 \n6-8 p.m. \nMayfield Church (7747 Mayfield Road\, Chesterland) \nJoin RockAbility as the band keeps the dance tunes rolling at the MUMS Formal Winter Ball! This annual event includes food\, beverages and lots of fun! Did someone say “Electric Slide?!” Yeah\, we got that!
URL:https://npowerservices.com/event/rockability-plays-the-mums-formal-winter-ball/
LOCATION:Mayfield Church\, 7747 Mayfield Road\, Chesterland\, 44026\, United States
ORGANIZER;CN="NPower Services":MAILTO:lori@npowerservices.com
END:VEVENT
END:VCALENDAR