BEGIN:VCALENDAR
VERSION:2.0
PRODID:-//NPower Services - ECPv6.15.20//NONSGML v1.0//EN
CALSCALE:GREGORIAN
METHOD:PUBLISH
X-ORIGINAL-URL:https://npowerservices.com
X-WR-CALDESC:Events for NPower Services
REFRESH-INTERVAL;VALUE=DURATION:PT1H
X-Robots-Tag:noindex
X-PUBLISHED-TTL:PT1H
BEGIN:VTIMEZONE
TZID:America/New_York
BEGIN:DAYLIGHT
TZOFFSETFROM:-0500
TZOFFSETTO:-0400
TZNAME:EDT
DTSTART:20230312T070000
END:DAYLIGHT
BEGIN:STANDARD
TZOFFSETFROM:-0400
TZOFFSETTO:-0500
TZNAME:EST
DTSTART:20231105T060000
END:STANDARD
BEGIN:DAYLIGHT
TZOFFSETFROM:-0500
TZOFFSETTO:-0400
TZNAME:EDT
DTSTART:20240310T070000
END:DAYLIGHT
BEGIN:STANDARD
TZOFFSETFROM:-0400
TZOFFSETTO:-0500
TZNAME:EST
DTSTART:20241103T060000
END:STANDARD
BEGIN:DAYLIGHT
TZOFFSETFROM:-0500
TZOFFSETTO:-0400
TZNAME:EDT
DTSTART:20250309T070000
END:DAYLIGHT
BEGIN:STANDARD
TZOFFSETFROM:-0400
TZOFFSETTO:-0500
TZNAME:EST
DTSTART:20251102T060000
END:STANDARD
END:VTIMEZONE
BEGIN:VEVENT
DTSTART;TZID=America/New_York:20240312T160000
DTEND;TZID=America/New_York:20240312T170000
DTSTAMP:20260422T203938
CREATED:20240212T180416Z
LAST-MODIFIED:20240212T180416Z
UID:10000668-1710259200-1710262800@npowerservices.com
SUMMARY:Project: Kindness - Make Altered Books to Keep and Share
DESCRIPTION:Join NPower Services with our friends at Chagrin Falls Library as we make altered books. We’ll create 3D book sculptures as art that’s both decorative as well as functional. \nLearn more about Project: Kindness. \nKindness to ourselves + Kindness to others = A kinder world \nProject: Kindness aligns self-care and service opportunities with adults who want to contribute to making a kinder world – while NPowering people with developmental disabilities (DD) to put themselves on the giving end of service. \nHow? \nNPower Services has partnered with local libraries and other organizations including the Power of Joy to either contribute to existing service projects & programs or create new ones. \nRecognizing that it’s often impossible to treat others with kindness when we don’t feel appreciated ourselves\, Project: Kindness events include an activity that focuses on elevating participants’ own sense of self-worth along with a project that helps others.
URL:https://npowerservices.com/event/project-kindness-make-altered-books-to-keep-and-share/
LOCATION:Chagrin Falls Library\, 100 East Orange Street\, Chagrin Falls\, OH\, 44022\, United States
ORGANIZER;CN="NPower Services":MAILTO:lori@npowerservices.com
END:VEVENT
BEGIN:VEVENT
DTSTART;TZID=America/New_York:20240312T173000
DTEND;TZID=America/New_York:20240312T183000
DTSTAMP:20260422T203938
CREATED:20240212T171855Z
LAST-MODIFIED:20240212T181432Z
UID:10000523-1710264600-1710268200@npowerservices.com
SUMMARY:Adaptive CrossFit
DESCRIPTION:Join CrossFit coaches at Chagrin Falls CrossFit in a challenging workout that everyone can modify as they work on their fitness goals. Learn how to correctly lift weights while improving cardio endurance\, flexibility and functional fitness skills. \nFour sessions: \nJan 2- Mar 19\nApril 2 – June 18\nJuly 2 – Sept. 17\nOct. 1 – Dec. 17\nSessions cost $75 – payable to CrossFit.
URL:https://npowerservices.com/event/adaptive-crossfit-6/2024-03-12/
LOCATION:Chagrin Falls CrossFit\, 477 Industrial Parkway\, Unit D\, Chagrin Falls\, OH\, 44023-1202\, United States
ORGANIZER;CN="NPower Services":MAILTO:lori@npowerservices.com
END:VEVENT
END:VCALENDAR