BEGIN:VCALENDAR
VERSION:2.0
PRODID:-//NPower Services - ECPv6.15.20//NONSGML v1.0//EN
CALSCALE:GREGORIAN
METHOD:PUBLISH
X-ORIGINAL-URL:https://npowerservices.com
X-WR-CALDESC:Events for NPower Services
REFRESH-INTERVAL;VALUE=DURATION:PT1H
X-Robots-Tag:noindex
X-PUBLISHED-TTL:PT1H
BEGIN:VTIMEZONE
TZID:America/New_York
BEGIN:DAYLIGHT
TZOFFSETFROM:-0500
TZOFFSETTO:-0400
TZNAME:EDT
DTSTART:20230312T070000
END:DAYLIGHT
BEGIN:STANDARD
TZOFFSETFROM:-0400
TZOFFSETTO:-0500
TZNAME:EST
DTSTART:20231105T060000
END:STANDARD
BEGIN:DAYLIGHT
TZOFFSETFROM:-0500
TZOFFSETTO:-0400
TZNAME:EDT
DTSTART:20240310T070000
END:DAYLIGHT
BEGIN:STANDARD
TZOFFSETFROM:-0400
TZOFFSETTO:-0500
TZNAME:EST
DTSTART:20241103T060000
END:STANDARD
BEGIN:DAYLIGHT
TZOFFSETFROM:-0500
TZOFFSETTO:-0400
TZNAME:EDT
DTSTART:20250309T070000
END:DAYLIGHT
BEGIN:STANDARD
TZOFFSETFROM:-0400
TZOFFSETTO:-0500
TZNAME:EST
DTSTART:20251102T060000
END:STANDARD
END:VTIMEZONE
BEGIN:VEVENT
DTSTART;TZID=America/New_York:20240323T140000
DTEND;TZID=America/New_York:20240323T170000
DTSTAMP:20260422T203538
CREATED:20240212T172851Z
LAST-MODIFIED:20240212T172851Z
UID:10000579-1711202400-1711213200@npowerservices.com
SUMMARY:RockAbility members join a local jam at Bummin' Beaver Brewery
DESCRIPTION:Community Jam! \nWe’re celebrating \n\nMusic in our Schools Month\nDevelopmental Disabilities Awareness Month\nInternational Teach Music Week\n\nAt The Bummin’ Beaver Brewery.  Who knows what you’ll hear\, but it’ll be fun! \n \n 
URL:https://npowerservices.com/event/rockability-members-join-a-local-jam-at-bummin-beaver-brewery/
LOCATION:Bummin’ Beaver Brewery\, 11610 East Washington St\, Chagrin Falls\, OH\, 44023\, United States
ORGANIZER;CN="NPower Services":MAILTO:lori@npowerservices.com
END:VEVENT
END:VCALENDAR