BEGIN:VCALENDAR
VERSION:2.0
PRODID:-//NPower Services - ECPv6.15.20//NONSGML v1.0//EN
CALSCALE:GREGORIAN
METHOD:PUBLISH
X-WR-CALNAME:NPower Services
X-ORIGINAL-URL:https://npowerservices.com
X-WR-CALDESC:Events for NPower Services
REFRESH-INTERVAL;VALUE=DURATION:PT1H
X-Robots-Tag:noindex
X-PUBLISHED-TTL:PT1H
BEGIN:VTIMEZONE
TZID:America/New_York
BEGIN:DAYLIGHT
TZOFFSETFROM:-0500
TZOFFSETTO:-0400
TZNAME:EDT
DTSTART:20230312T070000
END:DAYLIGHT
BEGIN:STANDARD
TZOFFSETFROM:-0400
TZOFFSETTO:-0500
TZNAME:EST
DTSTART:20231105T060000
END:STANDARD
BEGIN:DAYLIGHT
TZOFFSETFROM:-0500
TZOFFSETTO:-0400
TZNAME:EDT
DTSTART:20240310T070000
END:DAYLIGHT
BEGIN:STANDARD
TZOFFSETFROM:-0400
TZOFFSETTO:-0500
TZNAME:EST
DTSTART:20241103T060000
END:STANDARD
BEGIN:DAYLIGHT
TZOFFSETFROM:-0500
TZOFFSETTO:-0400
TZNAME:EDT
DTSTART:20250309T070000
END:DAYLIGHT
BEGIN:STANDARD
TZOFFSETFROM:-0400
TZOFFSETTO:-0500
TZNAME:EST
DTSTART:20251102T060000
END:STANDARD
END:VTIMEZONE
BEGIN:VEVENT
DTSTART;TZID=America/New_York:20240420T130000
DTEND;TZID=America/New_York:20240420T160000
DTSTAMP:20260423T131200
CREATED:20240304T155314Z
LAST-MODIFIED:20240304T160823Z
UID:10000782-1713618000-1713628800@npowerservices.com
SUMMARY:Project: Kindness - Help Plant Trees at Veterans Legacy Woods for Earth Day
DESCRIPTION:It’s almost Earth Day! And Project: Kindness is helping the Geauga Park District plant trees. This FREE project puts all of us on the giving end of service. We’ll help be good stewards of Mother Earth and enjoy time with friends while thanking our planet for providing us a good home. Wear clothing appropriate for yard work or gardening. Dress for the weather. \nRegister: Email annemarie@npowerservices.com \nCome for as long or short as you’d like! \n 
URL:https://npowerservices.com/event/project-kindness-help-plant-trees-at-veterans-legacy-woods-for-earth-day/
LOCATION:Vetarans Legacy Woods\, 14085 Ravenna Road\, Newbury\, OH\, United States
ORGANIZER;CN="NPower Services":MAILTO:lori@npowerservices.com
END:VEVENT
END:VCALENDAR