BEGIN:VCALENDAR
VERSION:2.0
PRODID:-//NPower Services - ECPv6.15.20//NONSGML v1.0//EN
CALSCALE:GREGORIAN
METHOD:PUBLISH
X-WR-CALNAME:NPower Services
X-ORIGINAL-URL:https://npowerservices.com
X-WR-CALDESC:Events for NPower Services
REFRESH-INTERVAL;VALUE=DURATION:PT1H
X-Robots-Tag:noindex
X-PUBLISHED-TTL:PT1H
BEGIN:VTIMEZONE
TZID:America/New_York
BEGIN:DAYLIGHT
TZOFFSETFROM:-0500
TZOFFSETTO:-0400
TZNAME:EDT
DTSTART:20230312T070000
END:DAYLIGHT
BEGIN:STANDARD
TZOFFSETFROM:-0400
TZOFFSETTO:-0500
TZNAME:EST
DTSTART:20231105T060000
END:STANDARD
BEGIN:DAYLIGHT
TZOFFSETFROM:-0500
TZOFFSETTO:-0400
TZNAME:EDT
DTSTART:20240310T070000
END:DAYLIGHT
BEGIN:STANDARD
TZOFFSETFROM:-0400
TZOFFSETTO:-0500
TZNAME:EST
DTSTART:20241103T060000
END:STANDARD
BEGIN:DAYLIGHT
TZOFFSETFROM:-0500
TZOFFSETTO:-0400
TZNAME:EDT
DTSTART:20250309T070000
END:DAYLIGHT
BEGIN:STANDARD
TZOFFSETFROM:-0400
TZOFFSETTO:-0500
TZNAME:EST
DTSTART:20251102T060000
END:STANDARD
END:VTIMEZONE
BEGIN:VEVENT
DTSTART;TZID=America/New_York:20240507T173000
DTEND;TZID=America/New_York:20240507T183000
DTSTAMP:20260423T130856
CREATED:20240212T171159Z
LAST-MODIFIED:20240212T171159Z
UID:10000432-1715103000-1715106600@npowerservices.com
SUMMARY:Adaptive CrossFit
DESCRIPTION:Join CrossFit coaches at Chagrin Falls CrossFit in a challenging workout that everyone can modify as they work on their fitness goals. Learn how to correctly lift weights while improving cardio endurance\, flexibility and functional fitness skills. \nFour sessions: \nJan 2- Mar 19\nApril 2 – June 18\nJuly 2 – Sept. 17\nOct. 1 – Dec. 17\nSessions cost $75 – payable to CrossFit.
URL:https://npowerservices.com/event/adaptive-crossfit-7/2024-05-07/
LOCATION:Chagrin Falls CrossFit\, 477 Industrial Parkway\, Unit D\, Chagrin Falls\, OH\, 44023-1202\, United States
ORGANIZER;CN="NPower Services":MAILTO:lori@npowerservices.com
END:VEVENT
BEGIN:VEVENT
DTSTART;TZID=America/New_York:20240507T180000
DTEND;TZID=America/New_York:20240507T190000
DTSTAMP:20260423T130856
CREATED:20240228T205322Z
LAST-MODIFIED:20240228T205355Z
UID:10000773-1715104800-1715108400@npowerservices.com
SUMMARY:Geauga Joggers & Walkers at Geauga Fairgrounds
DESCRIPTION:This free jogging and walking club is for adults of all ability levels. We gather for regular outings with a goal of participating in a community 5K every season. Everyone works to their desired level\, and cheers on all members. Gatherings are throughout Geauga County and surrounding areas. Participants with extraordinary needs are required to bring a provider to accompany him or her for the entire outing. \nBecause of occasional conflicts or weather conditions\, the schedule may change. It is up to participants to check email or social media outlets for updates regarding cancellations or date / venue changes. Participants are responsible for their own safety and transportation. \nOccasionally\, we may enjoy a post-walk snack. It is up to attendees to avoid anything that could cause an unwanted reaction. \n  \n 
URL:https://npowerservices.com/event/geauga-joggers-walkers-at-geauga-fairgrounds/
LOCATION:Geauga Fairgrounds\, 14373 N Cheshire St\, Burton\, OH\, United States
ORGANIZER;CN="NPower Services":MAILTO:lori@npowerservices.com
END:VEVENT
END:VCALENDAR