BEGIN:VCALENDAR
VERSION:2.0
PRODID:-//NPower Services - ECPv6.15.20//NONSGML v1.0//EN
CALSCALE:GREGORIAN
METHOD:PUBLISH
X-WR-CALNAME:NPower Services
X-ORIGINAL-URL:https://npowerservices.com
X-WR-CALDESC:Events for NPower Services
REFRESH-INTERVAL;VALUE=DURATION:PT1H
X-Robots-Tag:noindex
X-PUBLISHED-TTL:PT1H
BEGIN:VTIMEZONE
TZID:America/New_York
BEGIN:DAYLIGHT
TZOFFSETFROM:-0500
TZOFFSETTO:-0400
TZNAME:EDT
DTSTART:20230312T070000
END:DAYLIGHT
BEGIN:STANDARD
TZOFFSETFROM:-0400
TZOFFSETTO:-0500
TZNAME:EST
DTSTART:20231105T060000
END:STANDARD
BEGIN:DAYLIGHT
TZOFFSETFROM:-0500
TZOFFSETTO:-0400
TZNAME:EDT
DTSTART:20240310T070000
END:DAYLIGHT
BEGIN:STANDARD
TZOFFSETFROM:-0400
TZOFFSETTO:-0500
TZNAME:EST
DTSTART:20241103T060000
END:STANDARD
BEGIN:DAYLIGHT
TZOFFSETFROM:-0500
TZOFFSETTO:-0400
TZNAME:EDT
DTSTART:20250309T070000
END:DAYLIGHT
BEGIN:STANDARD
TZOFFSETFROM:-0400
TZOFFSETTO:-0500
TZNAME:EST
DTSTART:20251102T060000
END:STANDARD
END:VTIMEZONE
BEGIN:VEVENT
DTSTART;TZID=America/New_York:20240522T183000
DTEND;TZID=America/New_York:20240522T203000
DTSTAMP:20260424T002528
CREATED:20240313T181436Z
LAST-MODIFIED:20240313T181436Z
UID:10000784-1716402600-1716409800@npowerservices.com
SUMMARY:Free Community Concert at Metzenbaum Center
DESCRIPTION:Join RockAbility in a celebration of sound! The Geauga County Board of Developmental Disabilities is opening up its gymnasium to RockAbility so they can play a 2-hour show of all your favorite songs! Be ready to sing and dance with this band that values all abilities. Members of Inside Circle will be invited to play with the band on select songs. Bring your own percussion instrument or use one of ours.  All ages. FREE! \n 
URL:https://npowerservices.com/event/free-community-concert-at-metzenbaum-center/
LOCATION:Metzenbaum Center\, 8200 Cedar Road\, Chesterland\, OH\, 44026\, United States
END:VEVENT
END:VCALENDAR