BEGIN:VCALENDAR
VERSION:2.0
PRODID:-//NPower Services - ECPv6.15.20//NONSGML v1.0//EN
CALSCALE:GREGORIAN
METHOD:PUBLISH
X-WR-CALNAME:NPower Services
X-ORIGINAL-URL:https://npowerservices.com
X-WR-CALDESC:Events for NPower Services
REFRESH-INTERVAL;VALUE=DURATION:PT1H
X-Robots-Tag:noindex
X-PUBLISHED-TTL:PT1H
BEGIN:VTIMEZONE
TZID:America/New_York
BEGIN:DAYLIGHT
TZOFFSETFROM:-0500
TZOFFSETTO:-0400
TZNAME:EDT
DTSTART:20230312T070000
END:DAYLIGHT
BEGIN:STANDARD
TZOFFSETFROM:-0400
TZOFFSETTO:-0500
TZNAME:EST
DTSTART:20231105T060000
END:STANDARD
BEGIN:DAYLIGHT
TZOFFSETFROM:-0500
TZOFFSETTO:-0400
TZNAME:EDT
DTSTART:20240310T070000
END:DAYLIGHT
BEGIN:STANDARD
TZOFFSETFROM:-0400
TZOFFSETTO:-0500
TZNAME:EST
DTSTART:20241103T060000
END:STANDARD
BEGIN:DAYLIGHT
TZOFFSETFROM:-0500
TZOFFSETTO:-0400
TZNAME:EDT
DTSTART:20250309T070000
END:DAYLIGHT
BEGIN:STANDARD
TZOFFSETFROM:-0400
TZOFFSETTO:-0500
TZNAME:EST
DTSTART:20251102T060000
END:STANDARD
END:VTIMEZONE
BEGIN:VEVENT
DTSTART;TZID=America/New_York:20240524T100000
DTEND;TZID=America/New_York:20240524T140000
DTSTAMP:20260423T131017
CREATED:20240523T200012Z
LAST-MODIFIED:20240523T201729Z
UID:10000793-1716544800-1716559200@npowerservices.com
SUMMARY:Project Kindness: Make placemats for our veterans
DESCRIPTION:Last minute project! \nWe are teaming up with Sew4Service & Celebration Lutheran Church to help our friends at the Veterans Food Pantry in Geauga County. The goal is to provide special placemats for their special meal – and these placemats will be reusable for years to come. \nCome and stay as long or as short as you’d like. We’re offering this project twice: \nFri.\, May 24 \nSat.\, May 25 \n10 a.m. – 4 p.m. both days. \nAll materials provided. \n 
URL:https://npowerservices.com/event/project-kindness-make-placemats-for-our-veterans/2024-05-24/
LOCATION:Celebration Lutheran Church\, 10621 Auburn Road\, Chardon\, OH\, 44024\, United States
ORGANIZER;CN="NPower Services":MAILTO:lori@npowerservices.com
END:VEVENT
BEGIN:VEVENT
DTSTART;TZID=America/New_York:20240524T153000
DTEND;TZID=America/New_York:20240524T170000
DTSTAMP:20260423T131017
CREATED:20240212T153027Z
LAST-MODIFIED:20240213T181446Z
UID:10000348-1716564600-1716570000@npowerservices.com
SUMMARY:Project: Kindness - Interplay
DESCRIPTION:Interplay – an integrated experience for people with disabilities and their caregivers \nFri.\, Jan. 26 \n3:45 p.m. \nBurton Public Library (14588 W Park Street / Burton) \nPlaying is one of the most fun\, effective ways to learn and grow. We’re lucky to have a certified Interplay instructor who is bringing this all-abilities program to Geauga County. We’ll use our voices\, bodies and imagination to play games the emphasize belonging and our own uniqueness. Check this out! This fourth-Friday event is sure to get your weekend off to a great start!
URL:https://npowerservices.com/event/project-kindness-interplay/2024-05-24/
LOCATION:Burton Public Library\, 14588 W Park Street\, Burton\, OH\, United States
ORGANIZER;CN="NPower Services":MAILTO:lori@npowerservices.com
END:VEVENT
END:VCALENDAR