BEGIN:VCALENDAR
VERSION:2.0
PRODID:-//NPower Services - ECPv6.15.20//NONSGML v1.0//EN
CALSCALE:GREGORIAN
METHOD:PUBLISH
X-WR-CALNAME:NPower Services
X-ORIGINAL-URL:https://npowerservices.com
X-WR-CALDESC:Events for NPower Services
REFRESH-INTERVAL;VALUE=DURATION:PT1H
X-Robots-Tag:noindex
X-PUBLISHED-TTL:PT1H
BEGIN:VTIMEZONE
TZID:America/New_York
BEGIN:DAYLIGHT
TZOFFSETFROM:-0500
TZOFFSETTO:-0400
TZNAME:EDT
DTSTART:20230312T070000
END:DAYLIGHT
BEGIN:STANDARD
TZOFFSETFROM:-0400
TZOFFSETTO:-0500
TZNAME:EST
DTSTART:20231105T060000
END:STANDARD
BEGIN:DAYLIGHT
TZOFFSETFROM:-0500
TZOFFSETTO:-0400
TZNAME:EDT
DTSTART:20240310T070000
END:DAYLIGHT
BEGIN:STANDARD
TZOFFSETFROM:-0400
TZOFFSETTO:-0500
TZNAME:EST
DTSTART:20241103T060000
END:STANDARD
BEGIN:DAYLIGHT
TZOFFSETFROM:-0500
TZOFFSETTO:-0400
TZNAME:EDT
DTSTART:20250309T070000
END:DAYLIGHT
BEGIN:STANDARD
TZOFFSETFROM:-0400
TZOFFSETTO:-0500
TZNAME:EST
DTSTART:20251102T060000
END:STANDARD
END:VTIMEZONE
BEGIN:VEVENT
DTSTART;TZID=America/New_York:20240527T180000
DTEND;TZID=America/New_York:20240527T190000
DTSTAMP:20260424T002544
CREATED:20240228T210018Z
LAST-MODIFIED:20240523T202050Z
UID:10000774-1716832800-1716836400@npowerservices.com
SUMMARY:CANCELLED: Geauga Joggers & Walkers at Orchard Hills Park
DESCRIPTION:DUE TO THE HOLIDAY – THIS EVENT IS BEING CANCELLED \nThis free jogging and walking club is for adults of all ability levels. We gather for regular outings with a goal of participating in a community 5K every season. Everyone works to their desired level\, and cheers on all members. Gatherings are throughout Geauga County and surrounding areas. Participants with extraordinary needs are required to bring a provider to accompany him or her for the entire outing. \nBecause of occasional conflicts or weather conditions\, the schedule may change. It is up to participants to check email or social media outlets for updates regarding cancellations or date / venue changes. Participants are responsible for their own safety and transportation. \nOccasionally\, we may enjoy a post-walk snack. It is up to attendees to avoid anything that could cause an unwanted reaction.
URL:https://npowerservices.com/event/geauga-joggers-walkers-at-orchard-hills-park-2/
LOCATION:Orchard Hills Park\, 11340 Caves road\, Chesterland\, OH\, 44026\, United States
END:VEVENT
END:VCALENDAR