BEGIN:VCALENDAR
VERSION:2.0
PRODID:-//NPower Services - ECPv6.15.20//NONSGML v1.0//EN
CALSCALE:GREGORIAN
METHOD:PUBLISH
X-WR-CALNAME:NPower Services
X-ORIGINAL-URL:https://npowerservices.com
X-WR-CALDESC:Events for NPower Services
REFRESH-INTERVAL;VALUE=DURATION:PT1H
X-Robots-Tag:noindex
X-PUBLISHED-TTL:PT1H
BEGIN:VTIMEZONE
TZID:America/New_York
BEGIN:DAYLIGHT
TZOFFSETFROM:-0500
TZOFFSETTO:-0400
TZNAME:EDT
DTSTART:20230312T070000
END:DAYLIGHT
BEGIN:STANDARD
TZOFFSETFROM:-0400
TZOFFSETTO:-0500
TZNAME:EST
DTSTART:20231105T060000
END:STANDARD
BEGIN:DAYLIGHT
TZOFFSETFROM:-0500
TZOFFSETTO:-0400
TZNAME:EDT
DTSTART:20240310T070000
END:DAYLIGHT
BEGIN:STANDARD
TZOFFSETFROM:-0400
TZOFFSETTO:-0500
TZNAME:EST
DTSTART:20241103T060000
END:STANDARD
BEGIN:DAYLIGHT
TZOFFSETFROM:-0500
TZOFFSETTO:-0400
TZNAME:EDT
DTSTART:20250309T070000
END:DAYLIGHT
BEGIN:STANDARD
TZOFFSETFROM:-0400
TZOFFSETTO:-0500
TZNAME:EST
DTSTART:20251102T060000
END:STANDARD
END:VTIMEZONE
BEGIN:VEVENT
DTSTART;TZID=America/New_York:20240817T083000
DTEND;TZID=America/New_York:20240817T123000
DTSTAMP:20260424T132544
CREATED:20240726T155557Z
LAST-MODIFIED:20240726T155557Z
UID:10001176-1723883400-1723897800@npowerservices.com
SUMMARY:RockAbility plays Buddy Walk (DSANEO)
DESCRIPTION:Join RockAbility at the Tri-C campus for the Down Syndrome Association’s annual Buddy Walk! We’ll provide the musical motivation for everyone to complete their trek around the lawns. Plenty of other activities and information tables about Downs will be there as well. RockAbility will take the stage around 8:30 a.m. for a preshow song fest\, and we’ll keep rockin’ after the walk concludes. \n 
URL:https://npowerservices.com/event/rockability-plays-buddy-walk-dsaneo/
LOCATION:Tri-C Parma Campus\, 11000 West Pleasant Valley Road\, Parma\, OH\, 44130\, United States
END:VEVENT
END:VCALENDAR