BEGIN:VCALENDAR
VERSION:2.0
PRODID:-//NPower Services - ECPv6.15.20//NONSGML v1.0//EN
CALSCALE:GREGORIAN
METHOD:PUBLISH
X-WR-CALNAME:NPower Services
X-ORIGINAL-URL:https://npowerservices.com
X-WR-CALDESC:Events for NPower Services
REFRESH-INTERVAL;VALUE=DURATION:PT1H
X-Robots-Tag:noindex
X-PUBLISHED-TTL:PT1H
BEGIN:VTIMEZONE
TZID:America/New_York
BEGIN:DAYLIGHT
TZOFFSETFROM:-0500
TZOFFSETTO:-0400
TZNAME:EDT
DTSTART:20230312T070000
END:DAYLIGHT
BEGIN:STANDARD
TZOFFSETFROM:-0400
TZOFFSETTO:-0500
TZNAME:EST
DTSTART:20231105T060000
END:STANDARD
BEGIN:DAYLIGHT
TZOFFSETFROM:-0500
TZOFFSETTO:-0400
TZNAME:EDT
DTSTART:20240310T070000
END:DAYLIGHT
BEGIN:STANDARD
TZOFFSETFROM:-0400
TZOFFSETTO:-0500
TZNAME:EST
DTSTART:20241103T060000
END:STANDARD
BEGIN:DAYLIGHT
TZOFFSETFROM:-0500
TZOFFSETTO:-0400
TZNAME:EDT
DTSTART:20250309T070000
END:DAYLIGHT
BEGIN:STANDARD
TZOFFSETFROM:-0400
TZOFFSETTO:-0500
TZNAME:EST
DTSTART:20251102T060000
END:STANDARD
END:VTIMEZONE
BEGIN:VEVENT
DTSTART;TZID=America/New_York:20240822T100000
DTEND;TZID=America/New_York:20240822T120000
DTSTAMP:20260424T094657
CREATED:20240502T195608Z
LAST-MODIFIED:20240802T154915Z
UID:10000788-1724320800-1724328000@npowerservices.com
SUMMARY:Dance Party at SAW Beachwood with Cuyahoga County Board of Developmental Disabilities
DESCRIPTION:Join representatives from NPower Services and RockAbility at a fun\, outdoor dance party! We’ll have percussion instruments on hand and lots of music to keep your toes tapping. You’ll also have the opportunity to meet other vendors and agencies that serve adults with developmental disabilities. \n 
URL:https://npowerservices.com/event/dance-party-at-saw-beachwood-with-cuyahoga-county-board-of-developmental-disabilities/
LOCATION:Cuyahoga County Board of Developmental Disabilites SAW Location in Beachwood\, 23750 Mercantile Road Beachwood\, Ohio 23750 Mercantile Road \, Ohio 44122-5906\, Beachwood\, OH\, 44122\, United States
ORGANIZER;CN="NPower Services":MAILTO:lori@npowerservices.com
END:VEVENT
BEGIN:VEVENT
DTSTART;TZID=America/New_York:20240822T173000
DTEND;TZID=America/New_York:20240822T183000
DTSTAMP:20260424T094657
CREATED:20240212T175347Z
LAST-MODIFIED:20240212T175347Z
UID:10000667-1724347800-1724351400@npowerservices.com
SUMMARY:RockAbility's Inside Circle at Chardon Library
DESCRIPTION:Join us as we strum and drum – improving our rhythm and melody skills. You’ll get to rock out with RockAbility members and local musician Dave Deitke. No registration required. Just show up and be ready to have a blast! If you have a drum\, ukulele\, harmonica or other instrument\, feel free to bring it. Or\, use one of ours. FREE!
URL:https://npowerservices.com/event/rockabilitys-inside-circle-at-chardon-library/2024-08-22/
LOCATION:Chardon Library GCPL\, 110 East Park Street\, Chardon\, OH\, 44024\, United States
ORGANIZER;CN="NPower Services":MAILTO:lori@npowerservices.com
END:VEVENT
END:VCALENDAR