BEGIN:VCALENDAR
VERSION:2.0
PRODID:-//NPower Services - ECPv6.15.20//NONSGML v1.0//EN
CALSCALE:GREGORIAN
METHOD:PUBLISH
X-WR-CALNAME:NPower Services
X-ORIGINAL-URL:https://npowerservices.com
X-WR-CALDESC:Events for NPower Services
REFRESH-INTERVAL;VALUE=DURATION:PT1H
X-Robots-Tag:noindex
X-PUBLISHED-TTL:PT1H
BEGIN:VTIMEZONE
TZID:America/New_York
BEGIN:DAYLIGHT
TZOFFSETFROM:-0500
TZOFFSETTO:-0400
TZNAME:EDT
DTSTART:20230312T070000
END:DAYLIGHT
BEGIN:STANDARD
TZOFFSETFROM:-0400
TZOFFSETTO:-0500
TZNAME:EST
DTSTART:20231105T060000
END:STANDARD
BEGIN:DAYLIGHT
TZOFFSETFROM:-0500
TZOFFSETTO:-0400
TZNAME:EDT
DTSTART:20240310T070000
END:DAYLIGHT
BEGIN:STANDARD
TZOFFSETFROM:-0400
TZOFFSETTO:-0500
TZNAME:EST
DTSTART:20241103T060000
END:STANDARD
BEGIN:DAYLIGHT
TZOFFSETFROM:-0500
TZOFFSETTO:-0400
TZNAME:EDT
DTSTART:20250309T070000
END:DAYLIGHT
BEGIN:STANDARD
TZOFFSETFROM:-0400
TZOFFSETTO:-0500
TZNAME:EST
DTSTART:20251102T060000
END:STANDARD
END:VTIMEZONE
BEGIN:VEVENT
DTSTART;TZID=America/New_York:20241007T120000
DTEND;TZID=America/New_York:20241007T170000
DTSTAMP:20260424T132533
CREATED:20240606T163025Z
LAST-MODIFIED:20240930T153453Z
UID:10001165-1728302400-1728320400@npowerservices.com
SUMMARY:Project: Kindness - Placemat-pa-looza for the Geauga Veterans Food Pantry
DESCRIPTION:Mon.\, Oct. 7 \n12 – 5 p.m. \nCelebration Lutheran Church (10621 Auburn Rd / Chardon) \nProject: Kindness needs help making placemats for the Geauga Veterans Food Pantry. That means: ironing\, cutting\, sorting\, making fabric sandwiches\, sewing\, turning\, ironing\, and topstitching! The Pantry asked us to make Christmas themed placemats AND napkins that the Veterans could take home to brighten their meals. There are 87 Veterans registered for the services provided by the Pantry. Even if you have no sewing experience\, you can help! We’ll invite friends from Sew4Service\, MUMS\, Aktion Club\, and YouthAbility to come join us for a marathon of fabric crafting. Come for as long as you’re able anytime between 12 and 5.
URL:https://npowerservices.com/event/project-kindness-placemat-pa-looza-for-the-geauga-veterans-food-pantry/
LOCATION:Celebration Lutheran Church\, 10621 Auburn Road\, Chardon\, OH\, 44024\, United States
ORGANIZER;CN="NPower Services":MAILTO:lori@npowerservices.com
END:VEVENT
END:VCALENDAR