BEGIN:VCALENDAR
VERSION:2.0
PRODID:-//NPower Services - ECPv6.15.20//NONSGML v1.0//EN
CALSCALE:GREGORIAN
METHOD:PUBLISH
X-ORIGINAL-URL:https://npowerservices.com
X-WR-CALDESC:Events for NPower Services
REFRESH-INTERVAL;VALUE=DURATION:PT1H
X-Robots-Tag:noindex
X-PUBLISHED-TTL:PT1H
BEGIN:VTIMEZONE
TZID:America/New_York
BEGIN:DAYLIGHT
TZOFFSETFROM:-0500
TZOFFSETTO:-0400
TZNAME:EDT
DTSTART:20230312T070000
END:DAYLIGHT
BEGIN:STANDARD
TZOFFSETFROM:-0400
TZOFFSETTO:-0500
TZNAME:EST
DTSTART:20231105T060000
END:STANDARD
BEGIN:DAYLIGHT
TZOFFSETFROM:-0500
TZOFFSETTO:-0400
TZNAME:EDT
DTSTART:20240310T070000
END:DAYLIGHT
BEGIN:STANDARD
TZOFFSETFROM:-0400
TZOFFSETTO:-0500
TZNAME:EST
DTSTART:20241103T060000
END:STANDARD
BEGIN:DAYLIGHT
TZOFFSETFROM:-0500
TZOFFSETTO:-0400
TZNAME:EDT
DTSTART:20250309T070000
END:DAYLIGHT
BEGIN:STANDARD
TZOFFSETFROM:-0400
TZOFFSETTO:-0500
TZNAME:EST
DTSTART:20251102T060000
END:STANDARD
END:VTIMEZONE
BEGIN:VEVENT
DTSTART;TZID=America/New_York:20241112T160000
DTEND;TZID=America/New_York:20241112T170000
DTSTAMP:20260424T182300
CREATED:20241007T204555Z
LAST-MODIFIED:20241007T204555Z
UID:10001221-1731427200-1731430800@npowerservices.com
SUMMARY:Project: Kindness - Make a DYI cookie gift for your holiday hostess
DESCRIPTION:The holidays are nearly upon us. And wouldn’t it be a sweet act of kindness to present your aunt\, grandma\, mom or other special host or hostess a cookie kit for just for them? Well – you can! Project: Kindness is assembling DIY cookie kits at our November gathering at Chagrin Falls Library. You’ll get to make kits to give to others (and keep one for yourself for when you need a little pick-me-up!) Cookie variety is TBD\, but you can count on it being delicious.
URL:https://npowerservices.com/event/project-kindness-make-a-dyi-cookie-gift-for-your-holiday-hostess/
LOCATION:Chagrin Falls Library\, 100 East Orange Street\, Chagrin Falls\, OH\, 44022\, United States
ORGANIZER;CN="NPower Services":MAILTO:lori@npowerservices.com
END:VEVENT
BEGIN:VEVENT
DTSTART;TZID=America/New_York:20241112T173000
DTEND;TZID=America/New_York:20241112T183000
DTSTAMP:20260424T182300
CREATED:20240212T171159Z
LAST-MODIFIED:20240212T171159Z
UID:10000457-1731432600-1731436200@npowerservices.com
SUMMARY:Adaptive CrossFit
DESCRIPTION:Join CrossFit coaches at Chagrin Falls CrossFit in a challenging workout that everyone can modify as they work on their fitness goals. Learn how to correctly lift weights while improving cardio endurance\, flexibility and functional fitness skills. \nFour sessions: \nJan 2- Mar 19\nApril 2 – June 18\nJuly 2 – Sept. 17\nOct. 1 – Dec. 17\nSessions cost $75 – payable to CrossFit.
URL:https://npowerservices.com/event/adaptive-crossfit-7/2024-11-12/
LOCATION:Chagrin Falls CrossFit\, 477 Industrial Parkway\, Unit D\, Chagrin Falls\, OH\, 44023-1202\, United States
ORGANIZER;CN="NPower Services":MAILTO:lori@npowerservices.com
END:VEVENT
END:VCALENDAR