BEGIN:VCALENDAR
VERSION:2.0
PRODID:-//NPower Services - ECPv6.15.20//NONSGML v1.0//EN
CALSCALE:GREGORIAN
METHOD:PUBLISH
X-WR-CALNAME:NPower Services
X-ORIGINAL-URL:https://npowerservices.com
X-WR-CALDESC:Events for NPower Services
REFRESH-INTERVAL;VALUE=DURATION:PT1H
X-Robots-Tag:noindex
X-PUBLISHED-TTL:PT1H
BEGIN:VTIMEZONE
TZID:America/New_York
BEGIN:DAYLIGHT
TZOFFSETFROM:-0500
TZOFFSETTO:-0400
TZNAME:EDT
DTSTART:20230312T070000
END:DAYLIGHT
BEGIN:STANDARD
TZOFFSETFROM:-0400
TZOFFSETTO:-0500
TZNAME:EST
DTSTART:20231105T060000
END:STANDARD
BEGIN:DAYLIGHT
TZOFFSETFROM:-0500
TZOFFSETTO:-0400
TZNAME:EDT
DTSTART:20240310T070000
END:DAYLIGHT
BEGIN:STANDARD
TZOFFSETFROM:-0400
TZOFFSETTO:-0500
TZNAME:EST
DTSTART:20241103T060000
END:STANDARD
BEGIN:DAYLIGHT
TZOFFSETFROM:-0500
TZOFFSETTO:-0400
TZNAME:EDT
DTSTART:20250309T070000
END:DAYLIGHT
BEGIN:STANDARD
TZOFFSETFROM:-0400
TZOFFSETTO:-0500
TZNAME:EST
DTSTART:20251102T060000
END:STANDARD
END:VTIMEZONE
BEGIN:VEVENT
DTSTART;TZID=America/New_York:20241116T160000
DTEND;TZID=America/New_York:20241116T210000
DTSTAMP:20260424T214341
CREATED:20240515T164801Z
LAST-MODIFIED:20241111T154052Z
UID:10000792-1731772800-1731790800@npowerservices.com
SUMMARY:A Night of Gratitude Fundraiser
DESCRIPTION:SOLD OUT. Thank you for your support! \nAre you ready to be part of something truly extraordinary? NPower Services is hosting “A Night of Gratitude” on Nov. 16\, 2024. This fundraising event promises to be a highlight of the year! Not only will it include sumptuous food from the chefs at EOUV\, but it will also offer a live performance from RockAbility guaranteed to keep you dancing. \nNPower Services is dedicated to empowering adults with developmental disabilities to lead meaningful lives. Our free or low-cost programs include: \n\nRockAbility\nInside Circle (drum & ukulele circle)\nPower Ups Athletics\nGeauga Joggers & Walkers\nAdaptive CrossFit\nProject: Kindness\n\nA Night of Gratitude is at the EOUV Club\, Sat.\, Nov. 16. Doors open at 4 p.m. Dinner is at 5. Music starts at 6. Tickets cost $75 each. Sponsors receive public acknowledgement and / or tickets to the event.  We invite you to partner with us in this endeavor. Thank you for considering this opportunity to Npower lives and make a lasting difference.
URL:https://npowerservices.com/event/test/
LOCATION:EOUV Club\, 8636 Pekin road\, Novelty\, OH\, United States
ORGANIZER;CN="NPower Services":MAILTO:lori@npowerservices.com
END:VEVENT
END:VCALENDAR