BEGIN:VCALENDAR
VERSION:2.0
PRODID:-//NPower Services - ECPv6.15.20//NONSGML v1.0//EN
CALSCALE:GREGORIAN
METHOD:PUBLISH
X-ORIGINAL-URL:https://npowerservices.com
X-WR-CALDESC:Events for NPower Services
REFRESH-INTERVAL;VALUE=DURATION:PT1H
X-Robots-Tag:noindex
X-PUBLISHED-TTL:PT1H
BEGIN:VTIMEZONE
TZID:America/New_York
BEGIN:DAYLIGHT
TZOFFSETFROM:-0500
TZOFFSETTO:-0400
TZNAME:EDT
DTSTART:20230312T070000
END:DAYLIGHT
BEGIN:STANDARD
TZOFFSETFROM:-0400
TZOFFSETTO:-0500
TZNAME:EST
DTSTART:20231105T060000
END:STANDARD
BEGIN:DAYLIGHT
TZOFFSETFROM:-0500
TZOFFSETTO:-0400
TZNAME:EDT
DTSTART:20240310T070000
END:DAYLIGHT
BEGIN:STANDARD
TZOFFSETFROM:-0400
TZOFFSETTO:-0500
TZNAME:EST
DTSTART:20241103T060000
END:STANDARD
BEGIN:DAYLIGHT
TZOFFSETFROM:-0500
TZOFFSETTO:-0400
TZNAME:EDT
DTSTART:20250309T070000
END:DAYLIGHT
BEGIN:STANDARD
TZOFFSETFROM:-0400
TZOFFSETTO:-0500
TZNAME:EST
DTSTART:20251102T060000
END:STANDARD
END:VTIMEZONE
BEGIN:VEVENT
DTSTART;TZID=America/New_York:20241122T103000
DTEND;TZID=America/New_York:20241122T113000
DTSTAMP:20260424T133137
CREATED:20240927T162959Z
LAST-MODIFIED:20240927T162959Z
UID:10001219-1732271400-1732275000@npowerservices.com
SUMMARY:RockAbility’s Inside Circle at CLW
DESCRIPTION:RockAbility is bringing its Inside Circle music fun to Creative Learning Workshop in Newbury! We’ll practice the fundamentals of rhythm and melody. Bring your instrument or use one of ours. FREE! Plan on having fun!
URL:https://npowerservices.com/event/rockabilitys-inside-circle-at-clw-2/
LOCATION:Creative Learning Workshop Newbury\, 12379 Kinsman Road\, Newbury\, 44065\, United States
ORGANIZER;CN="NPower Services":MAILTO:lori@npowerservices.com
END:VEVENT
BEGIN:VEVENT
DTSTART;TZID=America/New_York:20241122T154500
DTEND;TZID=America/New_York:20241122T170000
DTSTAMP:20260424T133137
CREATED:20240828T154607Z
LAST-MODIFIED:20240828T160645Z
UID:10001209-1732290300-1732294800@npowerservices.com
SUMMARY:Project: Kindness - Interplay
DESCRIPTION:Burton Public Library (14588 W Park Street\, Burton) \nPlaying is one of the most fun\, effective ways to learn and grow. We’re lucky to have a certified Interplay instructor who is bringing this all-abilities program to Geauga County. We’ll use our voices\, bodies and imagination to play games that emphasize belonging and our own uniqueness.  \n \n 
URL:https://npowerservices.com/event/project-kindness-interplay-3/2024-11-22/
LOCATION:Burton Public Library\, 14588 W Park Street\, Burton\, OH\, United States
ORGANIZER;CN="NPower Services":MAILTO:lori@npowerservices.com
END:VEVENT
END:VCALENDAR