BEGIN:VCALENDAR
VERSION:2.0
PRODID:-//NPower Services - ECPv6.15.20//NONSGML v1.0//EN
CALSCALE:GREGORIAN
METHOD:PUBLISH
X-WR-CALNAME:NPower Services
X-ORIGINAL-URL:https://npowerservices.com
X-WR-CALDESC:Events for NPower Services
REFRESH-INTERVAL;VALUE=DURATION:PT1H
X-Robots-Tag:noindex
X-PUBLISHED-TTL:PT1H
BEGIN:VTIMEZONE
TZID:America/New_York
BEGIN:DAYLIGHT
TZOFFSETFROM:-0500
TZOFFSETTO:-0400
TZNAME:EDT
DTSTART:20230312T070000
END:DAYLIGHT
BEGIN:STANDARD
TZOFFSETFROM:-0400
TZOFFSETTO:-0500
TZNAME:EST
DTSTART:20231105T060000
END:STANDARD
BEGIN:DAYLIGHT
TZOFFSETFROM:-0500
TZOFFSETTO:-0400
TZNAME:EDT
DTSTART:20240310T070000
END:DAYLIGHT
BEGIN:STANDARD
TZOFFSETFROM:-0400
TZOFFSETTO:-0500
TZNAME:EST
DTSTART:20241103T060000
END:STANDARD
BEGIN:DAYLIGHT
TZOFFSETFROM:-0500
TZOFFSETTO:-0400
TZNAME:EDT
DTSTART:20250309T070000
END:DAYLIGHT
BEGIN:STANDARD
TZOFFSETFROM:-0400
TZOFFSETTO:-0500
TZNAME:EST
DTSTART:20251102T060000
END:STANDARD
END:VTIMEZONE
BEGIN:VEVENT
DTSTART;TZID=America/New_York:20241207T160000
DTEND;TZID=America/New_York:20241207T170000
DTSTAMP:20260424T232130
CREATED:20241207T175117Z
LAST-MODIFIED:20241207T175117Z
UID:10001266-1733587200-1733590800@npowerservices.com
SUMMARY:Project: Kindness - Herbal and Fruit Infused Waters
DESCRIPTION:Stuck on soda? \nLet’s explore the refreshing options of herbal and fruit infusions. We’ll finish by making our own flavored water to take home. If you have a water bottle you’d like to use\, bring it with you! We’ll also have some on hand to donate. \nRegister here at Solon Adaptive & Integrated Recreation.
URL:https://npowerservices.com/event/project-kindness-herbal-and-fruit-infused-waters/
LOCATION:Solon Community Center\, 35000 Portz Parkway\, Solon\, 44139\, United States
ORGANIZER;CN="NPower Services":MAILTO:info@npowerservices.com
END:VEVENT
END:VCALENDAR