BEGIN:VCALENDAR
VERSION:2.0
PRODID:-//NPower Services - ECPv6.15.20//NONSGML v1.0//EN
CALSCALE:GREGORIAN
METHOD:PUBLISH
X-ORIGINAL-URL:https://npowerservices.com
X-WR-CALDESC:Events for NPower Services
REFRESH-INTERVAL;VALUE=DURATION:PT1H
X-Robots-Tag:noindex
X-PUBLISHED-TTL:PT1H
BEGIN:VTIMEZONE
TZID:America/New_York
BEGIN:DAYLIGHT
TZOFFSETFROM:-0500
TZOFFSETTO:-0400
TZNAME:EDT
DTSTART:20230312T070000
END:DAYLIGHT
BEGIN:STANDARD
TZOFFSETFROM:-0400
TZOFFSETTO:-0500
TZNAME:EST
DTSTART:20231105T060000
END:STANDARD
BEGIN:DAYLIGHT
TZOFFSETFROM:-0500
TZOFFSETTO:-0400
TZNAME:EDT
DTSTART:20240310T070000
END:DAYLIGHT
BEGIN:STANDARD
TZOFFSETFROM:-0400
TZOFFSETTO:-0500
TZNAME:EST
DTSTART:20241103T060000
END:STANDARD
BEGIN:DAYLIGHT
TZOFFSETFROM:-0500
TZOFFSETTO:-0400
TZNAME:EDT
DTSTART:20250309T070000
END:DAYLIGHT
BEGIN:STANDARD
TZOFFSETFROM:-0400
TZOFFSETTO:-0500
TZNAME:EST
DTSTART:20251102T060000
END:STANDARD
END:VTIMEZONE
BEGIN:VEVENT
DTSTART;TZID=America/New_York:20241212T103000
DTEND;TZID=America/New_York:20241212T113000
DTSTAMP:20260424T232533
CREATED:20240927T163251Z
LAST-MODIFIED:20241122T210545Z
UID:10001220-1733999400-1734003000@npowerservices.com
SUMMARY:RockAbility's Inside Circle at CLW Newbury
DESCRIPTION:RockAbility is bringing its Inside Circle music fun to Creative Learning Workshop in Newbury! We’ll practice the fundamentals of rhythm and melody. Bring your instrument or use one of ours. FREE! Plan on having fun!
URL:https://npowerservices.com/event/rockabilitys-inside-circle-at-clw-newbury/
LOCATION:Creative Learning Workshop Newbury\, 12379 Kinsman Road\, Newbury\, 44065\, United States
ORGANIZER;CN="NPower Services":MAILTO:lori@npowerservices.com
END:VEVENT
BEGIN:VEVENT
DTSTART;TZID=America/New_York:20241212T183000
DTEND;TZID=America/New_York:20241212T203000
DTSTAMP:20260424T232533
CREATED:20240307T141806Z
LAST-MODIFIED:20240307T141806Z
UID:10000783-1734028200-1734035400@npowerservices.com
SUMMARY:RockAbility plays the Rock & Roll Hall of Fame
DESCRIPTION:Join RockAbility at the Rock & Roll Hall of Fame! We’ll play in the second-floor “garage” where we’ll share some holiday spirit and an assortment of our favorite setlist songs. This event will be a jam style session.
URL:https://npowerservices.com/event/rockability-plays-the-rock-roll-hall-of-fame/
LOCATION:Rock and Roll Hall of Fame\, 1100 Rock n Roll Blvd\, Cleveland\, OH\, 44114\, United States
ORGANIZER;CN="NPower Services":MAILTO:lori@npowerservices.com
END:VEVENT
END:VCALENDAR