BEGIN:VCALENDAR
VERSION:2.0
PRODID:-//NPower Services - ECPv6.15.20//NONSGML v1.0//EN
CALSCALE:GREGORIAN
METHOD:PUBLISH
X-WR-CALNAME:NPower Services
X-ORIGINAL-URL:https://npowerservices.com
X-WR-CALDESC:Events for NPower Services
REFRESH-INTERVAL;VALUE=DURATION:PT1H
X-Robots-Tag:noindex
X-PUBLISHED-TTL:PT1H
BEGIN:VTIMEZONE
TZID:America/New_York
BEGIN:DAYLIGHT
TZOFFSETFROM:-0500
TZOFFSETTO:-0400
TZNAME:EDT
DTSTART:20240310T070000
END:DAYLIGHT
BEGIN:STANDARD
TZOFFSETFROM:-0400
TZOFFSETTO:-0500
TZNAME:EST
DTSTART:20241103T060000
END:STANDARD
BEGIN:DAYLIGHT
TZOFFSETFROM:-0500
TZOFFSETTO:-0400
TZNAME:EDT
DTSTART:20250309T070000
END:DAYLIGHT
BEGIN:STANDARD
TZOFFSETFROM:-0400
TZOFFSETTO:-0500
TZNAME:EST
DTSTART:20251102T060000
END:STANDARD
BEGIN:DAYLIGHT
TZOFFSETFROM:-0500
TZOFFSETTO:-0400
TZNAME:EDT
DTSTART:20260308T070000
END:DAYLIGHT
BEGIN:STANDARD
TZOFFSETFROM:-0400
TZOFFSETTO:-0500
TZNAME:EST
DTSTART:20261101T060000
END:STANDARD
END:VTIMEZONE
BEGIN:VEVENT
DTSTART;TZID=America/New_York:20250206T120000
DTEND;TZID=America/New_York:20250206T133000
DTSTAMP:20260425T092418
CREATED:20250102T190925Z
LAST-MODIFIED:20250102T190926Z
UID:10001271-1738843200-1738848600@npowerservices.com
SUMMARY:Power Ups - Integrated Workout and Friendly Competitive Activities
DESCRIPTION:W 4: Pickleball \nThis all-abilities training and friendly competition program provides athletes with developmental disabilities opportunities to work out at the Arena at Wembley\, a state-of-the-art gym and fitness facility. Activities include: pickleball\, weightlifting\, obstacles\, TRX\, swimming\, cycling\, dance\, boxing\, yoga and more. To maintain quality of instruction\, classes are capped at 12 people. The schedule may change depending upon staffing and room availability. \nNPower Services is also offering a similar evening program at the Arena at Wembley. Please register for only one as we would like to offer this opportunity to as many people as possible. If extra places are open\, we will revisit adding people to both sessions. The program costs $50 per session; no one is turned away for financial reasons. \n \n 
URL:https://npowerservices.com/event/power-ups-integrated-workout-and-friendly-competitive-activities-5/
LOCATION:The Arena at Wembley Club\, 8345 Woodberry Blvd.\, Chagrin Falls\, OH\, 44023\, United States
ORGANIZER;CN="NPower Services":MAILTO:lori@npowerservices.com
END:VEVENT
BEGIN:VEVENT
DTSTART;TZID=America/New_York:20250206T173000
DTEND;TZID=America/New_York:20250206T183000
DTSTAMP:20260425T092418
CREATED:20250115T150542Z
LAST-MODIFIED:20250115T150542Z
UID:10001192-1738863000-1738866600@npowerservices.com
SUMMARY:CANCELLED: RockAbility's Inside Circle - Drum and Ukulele circle
DESCRIPTION:Join us as we strum and drum – improving our rhythm and melody skills. You’ll get to rock out with RockAbility members and local musician Lea Marra. No registration required. Just show up and be ready to have a blast! If you have a drum\, ukulele\, harmonica or other instrument\, feel free to bring it. Or\, use one of ours. FREE!
URL:https://npowerservices.com/event/rockabilitys-inside-circle-drum-and-ukulele-circle-2/2025-02-06/
LOCATION:Chardon Library GCPL\, 110 East Park Street\, Chardon\, OH\, 44024\, United States
ORGANIZER;CN="NPower Services":MAILTO:lori@npowerservices.com
END:VEVENT
END:VCALENDAR