BEGIN:VCALENDAR
VERSION:2.0
PRODID:-//NPower Services - ECPv6.15.20//NONSGML v1.0//EN
CALSCALE:GREGORIAN
METHOD:PUBLISH
X-WR-CALNAME:NPower Services
X-ORIGINAL-URL:https://npowerservices.com
X-WR-CALDESC:Events for NPower Services
REFRESH-INTERVAL;VALUE=DURATION:PT1H
X-Robots-Tag:noindex
X-PUBLISHED-TTL:PT1H
BEGIN:VTIMEZONE
TZID:America/New_York
BEGIN:DAYLIGHT
TZOFFSETFROM:-0500
TZOFFSETTO:-0400
TZNAME:EDT
DTSTART:20230312T070000
END:DAYLIGHT
BEGIN:STANDARD
TZOFFSETFROM:-0400
TZOFFSETTO:-0500
TZNAME:EST
DTSTART:20231105T060000
END:STANDARD
BEGIN:DAYLIGHT
TZOFFSETFROM:-0500
TZOFFSETTO:-0400
TZNAME:EDT
DTSTART:20240310T070000
END:DAYLIGHT
BEGIN:STANDARD
TZOFFSETFROM:-0400
TZOFFSETTO:-0500
TZNAME:EST
DTSTART:20241103T060000
END:STANDARD
BEGIN:DAYLIGHT
TZOFFSETFROM:-0500
TZOFFSETTO:-0400
TZNAME:EDT
DTSTART:20250309T070000
END:DAYLIGHT
BEGIN:STANDARD
TZOFFSETFROM:-0400
TZOFFSETTO:-0500
TZNAME:EST
DTSTART:20251102T060000
END:STANDARD
END:VTIMEZONE
BEGIN:VEVENT
DTSTART;TZID=America/New_York:20240102T173000
DTEND;TZID=America/New_York:20240102T183000
DTSTAMP:20260421T184353
CREATED:20240212T171855Z
LAST-MODIFIED:20240212T181432Z
UID:10000513-1704216600-1704220200@npowerservices.com
SUMMARY:Adaptive CrossFit
DESCRIPTION:Join CrossFit coaches at Chagrin Falls CrossFit in a challenging workout that everyone can modify as they work on their fitness goals. Learn how to correctly lift weights while improving cardio endurance\, flexibility and functional fitness skills. \nFour sessions: \nJan 2- Mar 19\nApril 2 – June 18\nJuly 2 – Sept. 17\nOct. 1 – Dec. 17\nSessions cost $75 – payable to CrossFit.
URL:https://npowerservices.com/event/adaptive-crossfit-6/2024-01-02/
LOCATION:Chagrin Falls CrossFit\, 477 Industrial Parkway\, Unit D\, Chagrin Falls\, OH\, 44023-1202\, United States
ORGANIZER;CN="NPower Services":MAILTO:lori@npowerservices.com
END:VEVENT
BEGIN:VEVENT
DTSTART;TZID=America/New_York:20240108T180000
DTEND;TZID=America/New_York:20240108T180000
DTSTAMP:20260421T184353
CREATED:20230915T151018Z
LAST-MODIFIED:20230915T151018Z
UID:10000322-1704736800-1704736800@npowerservices.com
SUMMARY:RockAbility’s Inside Circle
DESCRIPTION:Join us as we strum and drum – improving our rhythm and melody skills. You’ll get to rock out with RockAbility members and local musician Lea Marra. No registration required. Just show up and be ready to have a blast! If you have a drum\, ukulele\, harmonica or other instrument\, feel free to bring it. Or\, use one of ours. FREE!
URL:https://npowerservices.com/event/rockabilitys-inside-circle-2-2/2024-01-08/
LOCATION:Burton Public Library\, 14588 W Park Street\, Burton\, OH\, United States
ORGANIZER;CN="NPower Services":MAILTO:lori@npowerservices.com
END:VEVENT
BEGIN:VEVENT
DTSTART;TZID=America/New_York:20240109T173000
DTEND;TZID=America/New_York:20240109T183000
DTSTAMP:20260421T184353
CREATED:20240212T171855Z
LAST-MODIFIED:20240212T181432Z
UID:10000514-1704821400-1704825000@npowerservices.com
SUMMARY:Adaptive CrossFit
DESCRIPTION:Join CrossFit coaches at Chagrin Falls CrossFit in a challenging workout that everyone can modify as they work on their fitness goals. Learn how to correctly lift weights while improving cardio endurance\, flexibility and functional fitness skills. \nFour sessions: \nJan 2- Mar 19\nApril 2 – June 18\nJuly 2 – Sept. 17\nOct. 1 – Dec. 17\nSessions cost $75 – payable to CrossFit.
URL:https://npowerservices.com/event/adaptive-crossfit-6/2024-01-09/
LOCATION:Chagrin Falls CrossFit\, 477 Industrial Parkway\, Unit D\, Chagrin Falls\, OH\, 44023-1202\, United States
ORGANIZER;CN="NPower Services":MAILTO:lori@npowerservices.com
END:VEVENT
BEGIN:VEVENT
DTSTART;TZID=America/New_York:20240116T173000
DTEND;TZID=America/New_York:20240116T183000
DTSTAMP:20260421T184353
CREATED:20240212T171855Z
LAST-MODIFIED:20240212T181432Z
UID:10000515-1705426200-1705429800@npowerservices.com
SUMMARY:Adaptive CrossFit
DESCRIPTION:Join CrossFit coaches at Chagrin Falls CrossFit in a challenging workout that everyone can modify as they work on their fitness goals. Learn how to correctly lift weights while improving cardio endurance\, flexibility and functional fitness skills. \nFour sessions: \nJan 2- Mar 19\nApril 2 – June 18\nJuly 2 – Sept. 17\nOct. 1 – Dec. 17\nSessions cost $75 – payable to CrossFit.
URL:https://npowerservices.com/event/adaptive-crossfit-6/2024-01-16/
LOCATION:Chagrin Falls CrossFit\, 477 Industrial Parkway\, Unit D\, Chagrin Falls\, OH\, 44023-1202\, United States
ORGANIZER;CN="NPower Services":MAILTO:lori@npowerservices.com
END:VEVENT
BEGIN:VEVENT
DTSTART;TZID=America/New_York:20240118T120000
DTEND;TZID=America/New_York:20240118T133000
DTSTAMP:20260421T184353
CREATED:20240212T173719Z
LAST-MODIFIED:20240307T142151Z
UID:10000673-1705579200-1705584600@npowerservices.com
SUMMARY:Power Ups Fitness
DESCRIPTION:NPower Services is pleased to introduce “Power Ups\,” a new daytime fitness program designed to get adults with developmental disabilities involved in challenging workouts followed by games and social activities. Power Ups is held at the Wembley Club (8345 Woodberry Blvd. / Bainbridge) on Thursdays from noon – 1:30 p.m. in eight-week sessions. The first session begins Jan. 18 and runs through March 7. The program costs $50 per session; no one is turned away for financial reasons. 
URL:https://npowerservices.com/event/power-ups-fitness/2024-01-18/
LOCATION:The Arena at Wembley Club\, 8345 Woodberry Blvd.\, Chagrin Falls\, OH\, 44023\, United States
ORGANIZER;CN="NPower Services":MAILTO:lori@npowerservices.com
END:VEVENT
BEGIN:VEVENT
DTSTART;TZID=America/New_York:20240123T173000
DTEND;TZID=America/New_York:20240123T183000
DTSTAMP:20260421T184353
CREATED:20240212T171855Z
LAST-MODIFIED:20240212T181432Z
UID:10000516-1706031000-1706034600@npowerservices.com
SUMMARY:Adaptive CrossFit
DESCRIPTION:Join CrossFit coaches at Chagrin Falls CrossFit in a challenging workout that everyone can modify as they work on their fitness goals. Learn how to correctly lift weights while improving cardio endurance\, flexibility and functional fitness skills. \nFour sessions: \nJan 2- Mar 19\nApril 2 – June 18\nJuly 2 – Sept. 17\nOct. 1 – Dec. 17\nSessions cost $75 – payable to CrossFit.
URL:https://npowerservices.com/event/adaptive-crossfit-6/2024-01-23/
LOCATION:Chagrin Falls CrossFit\, 477 Industrial Parkway\, Unit D\, Chagrin Falls\, OH\, 44023-1202\, United States
ORGANIZER;CN="NPower Services":MAILTO:lori@npowerservices.com
END:VEVENT
BEGIN:VEVENT
DTSTART;TZID=America/New_York:20240125T120000
DTEND;TZID=America/New_York:20240125T133000
DTSTAMP:20260421T184353
CREATED:20240212T173719Z
LAST-MODIFIED:20240307T142151Z
UID:10000674-1706184000-1706189400@npowerservices.com
SUMMARY:Power Ups Fitness
DESCRIPTION:NPower Services is pleased to introduce “Power Ups\,” a new daytime fitness program designed to get adults with developmental disabilities involved in challenging workouts followed by games and social activities. Power Ups is held at the Wembley Club (8345 Woodberry Blvd. / Bainbridge) on Thursdays from noon – 1:30 p.m. in eight-week sessions. The first session begins Jan. 18 and runs through March 7. The program costs $50 per session; no one is turned away for financial reasons. 
URL:https://npowerservices.com/event/power-ups-fitness/2024-01-25/
LOCATION:The Arena at Wembley Club\, 8345 Woodberry Blvd.\, Chagrin Falls\, OH\, 44023\, United States
ORGANIZER;CN="NPower Services":MAILTO:lori@npowerservices.com
END:VEVENT
BEGIN:VEVENT
DTSTART;TZID=America/New_York:20240126T080000
DTEND;TZID=America/New_York:20240126T170000
DTSTAMP:20260421T184353
CREATED:20240212T152231Z
LAST-MODIFIED:20240212T153126Z
UID:10000343-1706256000-1706288400@npowerservices.com
SUMMARY:RockAbility plays the Wayne Center for the Arts
DESCRIPTION:Fri.\, Jan. 26 \n11:15 a.m. \nCost: Free (private event) \nA RockAbility small ensemble is traveling to Wooster\, Ohio to perform for an audience of high school students who have different disabilities. We’re excited to share our music and the experiences of our musical journey. 
URL:https://npowerservices.com/event/rockability-plays-the-wayne-center-for-the-arts/
LOCATION:OH
END:VEVENT
BEGIN:VEVENT
DTSTART;TZID=America/New_York:20240126T153000
DTEND;TZID=America/New_York:20240126T170000
DTSTAMP:20260421T184353
CREATED:20240212T153027Z
LAST-MODIFIED:20240213T181446Z
UID:10000344-1706283000-1706288400@npowerservices.com
SUMMARY:Project: Kindness - Interplay
DESCRIPTION:Interplay – an integrated experience for people with disabilities and their caregivers \nFri.\, Jan. 26 \n3:45 p.m. \nBurton Public Library (14588 W Park Street / Burton) \nPlaying is one of the most fun\, effective ways to learn and grow. We’re lucky to have a certified Interplay instructor who is bringing this all-abilities program to Geauga County. We’ll use our voices\, bodies and imagination to play games the emphasize belonging and our own uniqueness. Check this out! This fourth-Friday event is sure to get your weekend off to a great start!
URL:https://npowerservices.com/event/project-kindness-interplay/2024-01-26/
LOCATION:Burton Public Library\, 14588 W Park Street\, Burton\, OH\, United States
ORGANIZER;CN="NPower Services":MAILTO:lori@npowerservices.com
END:VEVENT
BEGIN:VEVENT
DTSTART;TZID=America/New_York:20240130T173000
DTEND;TZID=America/New_York:20240130T183000
DTSTAMP:20260421T184353
CREATED:20240212T171855Z
LAST-MODIFIED:20240212T181432Z
UID:10000517-1706635800-1706639400@npowerservices.com
SUMMARY:Adaptive CrossFit
DESCRIPTION:Join CrossFit coaches at Chagrin Falls CrossFit in a challenging workout that everyone can modify as they work on their fitness goals. Learn how to correctly lift weights while improving cardio endurance\, flexibility and functional fitness skills. \nFour sessions: \nJan 2- Mar 19\nApril 2 – June 18\nJuly 2 – Sept. 17\nOct. 1 – Dec. 17\nSessions cost $75 – payable to CrossFit.
URL:https://npowerservices.com/event/adaptive-crossfit-6/2024-01-30/
LOCATION:Chagrin Falls CrossFit\, 477 Industrial Parkway\, Unit D\, Chagrin Falls\, OH\, 44023-1202\, United States
ORGANIZER;CN="NPower Services":MAILTO:lori@npowerservices.com
END:VEVENT
END:VCALENDAR