BEGIN:VCALENDAR
VERSION:2.0
PRODID:-//NPower Services - ECPv6.15.20//NONSGML v1.0//EN
CALSCALE:GREGORIAN
METHOD:PUBLISH
X-WR-CALNAME:NPower Services
X-ORIGINAL-URL:https://npowerservices.com
X-WR-CALDESC:Events for NPower Services
REFRESH-INTERVAL;VALUE=DURATION:PT1H
X-Robots-Tag:noindex
X-PUBLISHED-TTL:PT1H
BEGIN:VTIMEZONE
TZID:America/New_York
BEGIN:DAYLIGHT
TZOFFSETFROM:-0500
TZOFFSETTO:-0400
TZNAME:EDT
DTSTART:20230312T070000
END:DAYLIGHT
BEGIN:STANDARD
TZOFFSETFROM:-0400
TZOFFSETTO:-0500
TZNAME:EST
DTSTART:20231105T060000
END:STANDARD
BEGIN:DAYLIGHT
TZOFFSETFROM:-0500
TZOFFSETTO:-0400
TZNAME:EDT
DTSTART:20240310T070000
END:DAYLIGHT
BEGIN:STANDARD
TZOFFSETFROM:-0400
TZOFFSETTO:-0500
TZNAME:EST
DTSTART:20241103T060000
END:STANDARD
BEGIN:DAYLIGHT
TZOFFSETFROM:-0500
TZOFFSETTO:-0400
TZNAME:EDT
DTSTART:20250309T070000
END:DAYLIGHT
BEGIN:STANDARD
TZOFFSETFROM:-0400
TZOFFSETTO:-0500
TZNAME:EST
DTSTART:20251102T060000
END:STANDARD
END:VTIMEZONE
BEGIN:VEVENT
DTSTART;TZID=America/New_York:20241202T160000
DTEND;TZID=America/New_York:20241202T173000
DTSTAMP:20260424T214409
CREATED:20240606T163745Z
LAST-MODIFIED:20241103T190112Z
UID:10001166-1733155200-1733160600@npowerservices.com
SUMMARY:Project: Kindness - Stockings for Kids
DESCRIPTION:Stockings for kids \nMon.\, Dec. 2 \n4 – 5:30 p.m. \nKenston High School (9500 Bainbridge Rd / Chagrin Falls) \nProject: Kindness is partnering with Frontline Services\, Sew4Service and Kenston High School’s “Creating Exceptional Character” (CEC) students to make stockings for struggling families. Frontline Services is a nonprofit organization that reaches out to adults and children in Northeast Ohio to end homelessness\, prevent suicide\, resolve behavioral health crises and overcome trauma. During the holiday season they stuff and give stockings to those who might not otherwise receive any gifts or celebrate at all. \nProject: Kindness is at the ready to help with this worthwhile endeavor. We’ll celebrate the holiday with music\, cookies and cocoa. Join us for this FREE service project that’s sure to be a lot of fun!
URL:https://npowerservices.com/event/project-kindness-stockings-for-kids/
LOCATION:Kenston High Schoool\, 9500 Bainbridge Road\, Chagrin Falls\, OH\, 44023\, United States
ORGANIZER;CN="NPower Services":MAILTO:lori@npowerservices.com
END:VEVENT
BEGIN:VEVENT
DTSTART;TZID=America/New_York:20241203T173000
DTEND;TZID=America/New_York:20241203T183000
DTSTAMP:20260424T214409
CREATED:20240212T171159Z
LAST-MODIFIED:20240212T171159Z
UID:10000460-1733247000-1733250600@npowerservices.com
SUMMARY:Adaptive CrossFit
DESCRIPTION:Join CrossFit coaches at Chagrin Falls CrossFit in a challenging workout that everyone can modify as they work on their fitness goals. Learn how to correctly lift weights while improving cardio endurance\, flexibility and functional fitness skills. \nFour sessions: \nJan 2- Mar 19\nApril 2 – June 18\nJuly 2 – Sept. 17\nOct. 1 – Dec. 17\nSessions cost $75 – payable to CrossFit.
URL:https://npowerservices.com/event/adaptive-crossfit-7/2024-12-03/
LOCATION:Chagrin Falls CrossFit\, 477 Industrial Parkway\, Unit D\, Chagrin Falls\, OH\, 44023-1202\, United States
ORGANIZER;CN="NPower Services":MAILTO:lori@npowerservices.com
END:VEVENT
BEGIN:VEVENT
DTSTART;TZID=America/New_York:20241204T180000
DTEND;TZID=America/New_York:20241204T190000
DTSTAMP:20260424T214409
CREATED:20240911T131144Z
LAST-MODIFIED:20240911T131144Z
UID:10001213-1733335200-1733338800@npowerservices.com
SUMMARY:RockAbility's Inside Circle at DSANEO
DESCRIPTION:Join us as we strum and drum – improving our rhythm and melody skills. You’ll get to rock out with RockAbility members and local musician Lea Marra. No registration required. Just show up and be ready to have a blast! If you have a drum\, ukulele\, harmonica or other instrument\, feel free to bring it. Or\, use one of ours. FREE!
URL:https://npowerservices.com/event/rockabilitys-inside-circle-at-dsaneo-2/2024-12-04/
LOCATION:Down Syndrome Association of Northeast Ohio\, 6533-B Brecksville Road\, Independence\, OH\, United States
ORGANIZER;CN="NPower Services":MAILTO:info@npowerservices.com
END:VEVENT
BEGIN:VEVENT
DTSTART;TZID=America/New_York:20241205T173000
DTEND;TZID=America/New_York:20241205T183000
DTSTAMP:20260424T214409
CREATED:20241205T162235Z
LAST-MODIFIED:20241205T162235Z
UID:10001184-1733419800-1733423400@npowerservices.com
SUMMARY:CANCELLED: CHARDON LIBRARY IS CLOSED TODAY - WEATHER - Inside Circle at Chardon Library
DESCRIPTION:Join us as we strum and drum – improving our rhythm and melody skills. You’ll get to rock out with RockAbility members and local musician Lea Mara. No registration required. Just show up and be ready to have a blast! If you have a drum\, ukulele\, harmonica or other instrument\, feel free to bring it. Or\, use one of ours. FREE! \n 
URL:https://npowerservices.com/event/inside-circle-at-chardon-library-3/
LOCATION:Chardon Library GCPL\, 110 East Park Street\, Chardon\, OH\, 44024\, United States
ORGANIZER;CN="NPower Services":MAILTO:lori@npowerservices.com
END:VEVENT
BEGIN:VEVENT
DTSTART;TZID=America/New_York:20241207T160000
DTEND;TZID=America/New_York:20241207T170000
DTSTAMP:20260424T214409
CREATED:20241207T175117Z
LAST-MODIFIED:20241207T175117Z
UID:10001266-1733587200-1733590800@npowerservices.com
SUMMARY:Project: Kindness - Herbal and Fruit Infused Waters
DESCRIPTION:Stuck on soda? \nLet’s explore the refreshing options of herbal and fruit infusions. We’ll finish by making our own flavored water to take home. If you have a water bottle you’d like to use\, bring it with you! We’ll also have some on hand to donate. \nRegister here at Solon Adaptive & Integrated Recreation.
URL:https://npowerservices.com/event/project-kindness-herbal-and-fruit-infused-waters/
LOCATION:Solon Community Center\, 35000 Portz Parkway\, Solon\, 44139\, United States
ORGANIZER;CN="NPower Services":MAILTO:info@npowerservices.com
END:VEVENT
BEGIN:VEVENT
DTSTART;TZID=America/New_York:20241210T173000
DTEND;TZID=America/New_York:20241210T183000
DTSTAMP:20260424T214409
CREATED:20240212T171159Z
LAST-MODIFIED:20240212T171159Z
UID:10000461-1733851800-1733855400@npowerservices.com
SUMMARY:Adaptive CrossFit
DESCRIPTION:Join CrossFit coaches at Chagrin Falls CrossFit in a challenging workout that everyone can modify as they work on their fitness goals. Learn how to correctly lift weights while improving cardio endurance\, flexibility and functional fitness skills. \nFour sessions: \nJan 2- Mar 19\nApril 2 – June 18\nJuly 2 – Sept. 17\nOct. 1 – Dec. 17\nSessions cost $75 – payable to CrossFit.
URL:https://npowerservices.com/event/adaptive-crossfit-7/2024-12-10/
LOCATION:Chagrin Falls CrossFit\, 477 Industrial Parkway\, Unit D\, Chagrin Falls\, OH\, 44023-1202\, United States
ORGANIZER;CN="NPower Services":MAILTO:lori@npowerservices.com
END:VEVENT
BEGIN:VEVENT
DTSTART;TZID=America/New_York:20241211T180000
DTEND;TZID=America/New_York:20241211T200000
DTSTAMP:20260424T214409
CREATED:20241120T184605Z
LAST-MODIFIED:20241120T222201Z
UID:10001223-1733940000-1733947200@npowerservices.com
SUMMARY:NPower Services Holiday Party
DESCRIPTION:Anyone who has participated in our athletic\, music and kindness activities this year is invited to join their peers and mentors at this holiday pool party and taco bar prepared by everyone’s favorite chef\, Garry! FREE\, but registration required. Family members and drivers are included (maximum of 4 people per NPower client\, including client). Anyone with extraordinary needs must have a provider with them at all times.
URL:https://npowerservices.com/event/npower-services-holiday-party/
LOCATION:The Arena at Wembley Club\, 8345 Woodberry Blvd.\, Chagrin Falls\, OH\, 44023\, United States
ORGANIZER;CN="NPower Services":MAILTO:lori@npowerservices.com
END:VEVENT
BEGIN:VEVENT
DTSTART;TZID=America/New_York:20241212T103000
DTEND;TZID=America/New_York:20241212T113000
DTSTAMP:20260424T214409
CREATED:20240927T163251Z
LAST-MODIFIED:20241122T210545Z
UID:10001220-1733999400-1734003000@npowerservices.com
SUMMARY:RockAbility's Inside Circle at CLW Newbury
DESCRIPTION:RockAbility is bringing its Inside Circle music fun to Creative Learning Workshop in Newbury! We’ll practice the fundamentals of rhythm and melody. Bring your instrument or use one of ours. FREE! Plan on having fun!
URL:https://npowerservices.com/event/rockabilitys-inside-circle-at-clw-newbury/
LOCATION:Creative Learning Workshop Newbury\, 12379 Kinsman Road\, Newbury\, 44065\, United States
ORGANIZER;CN="NPower Services":MAILTO:lori@npowerservices.com
END:VEVENT
BEGIN:VEVENT
DTSTART;TZID=America/New_York:20241212T183000
DTEND;TZID=America/New_York:20241212T203000
DTSTAMP:20260424T214409
CREATED:20240307T141806Z
LAST-MODIFIED:20240307T141806Z
UID:10000783-1734028200-1734035400@npowerservices.com
SUMMARY:RockAbility plays the Rock & Roll Hall of Fame
DESCRIPTION:Join RockAbility at the Rock & Roll Hall of Fame! We’ll play in the second-floor “garage” where we’ll share some holiday spirit and an assortment of our favorite setlist songs. This event will be a jam style session.
URL:https://npowerservices.com/event/rockability-plays-the-rock-roll-hall-of-fame/
LOCATION:Rock and Roll Hall of Fame\, 1100 Rock n Roll Blvd\, Cleveland\, OH\, 44114\, United States
ORGANIZER;CN="NPower Services":MAILTO:lori@npowerservices.com
END:VEVENT
BEGIN:VEVENT
DTSTART;TZID=America/New_York:20241216T160000
DTEND;TZID=America/New_York:20241216T170000
DTSTAMP:20260424T214409
CREATED:20241122T204109Z
LAST-MODIFIED:20241122T204109Z
UID:10001224-1734364800-1734368400@npowerservices.com
SUMMARY:Project: Kindness - Yoga with Miss Sue
DESCRIPTION:Join NPower and the Metzenbaum Foundation at this gentle\, all-abilities class. Yoga is held every Monday at Metz at 4 p.m.\, and NPower attends as a group once a month. Try with friends! FREE.
URL:https://npowerservices.com/event/project-kindness-yoga-with-miss-sue-3/
LOCATION:Metzenbaum Center\, 8200 Cedar Road\, Chesterland\, OH\, 44026\, United States
END:VEVENT
BEGIN:VEVENT
DTSTART;TZID=America/New_York:20241217T160000
DTEND;TZID=America/New_York:20241217T170000
DTSTAMP:20260424T214409
CREATED:20241119T140530Z
LAST-MODIFIED:20241204T211617Z
UID:10001222-1734451200-1734454800@npowerservices.com
SUMMARY:Project: Kindness - DIY Hot Cocoa Kit Making
DESCRIPTION:Project: Kindness is excited to be expanding into the Solon! Our first activity is just in time for holiday gifting. Join Coach Debi and PK volunteers as we make yummy DIY hot cocoa gifts. All the materials are provided. We’ll measure\, assemble and decorate these kits that’ll make recipients feel loved. FREE! \nRegister here with Solon Adaptive and Inclusive Recreation. \n 
URL:https://npowerservices.com/event/project-kindness-diy-hot-cocoa-kit-making/
LOCATION:Solon Community Center\, 35000 Portz Parkway\, Solon\, 44139\, United States
ORGANIZER;CN="NPower Services":MAILTO:lori@npowerservices.com
END:VEVENT
BEGIN:VEVENT
DTSTART;TZID=America/New_York:20241217T173000
DTEND;TZID=America/New_York:20241217T183000
DTSTAMP:20260424T214409
CREATED:20240212T171159Z
LAST-MODIFIED:20240212T171159Z
UID:10000462-1734456600-1734460200@npowerservices.com
SUMMARY:Adaptive CrossFit
DESCRIPTION:Join CrossFit coaches at Chagrin Falls CrossFit in a challenging workout that everyone can modify as they work on their fitness goals. Learn how to correctly lift weights while improving cardio endurance\, flexibility and functional fitness skills. \nFour sessions: \nJan 2- Mar 19\nApril 2 – June 18\nJuly 2 – Sept. 17\nOct. 1 – Dec. 17\nSessions cost $75 – payable to CrossFit.
URL:https://npowerservices.com/event/adaptive-crossfit-7/2024-12-17/
LOCATION:Chagrin Falls CrossFit\, 477 Industrial Parkway\, Unit D\, Chagrin Falls\, OH\, 44023-1202\, United States
ORGANIZER;CN="NPower Services":MAILTO:lori@npowerservices.com
END:VEVENT
END:VCALENDAR