BEGIN:VCALENDAR
VERSION:2.0
PRODID:-//NPower Services - ECPv6.15.20//NONSGML v1.0//EN
CALSCALE:GREGORIAN
METHOD:PUBLISH
X-WR-CALNAME:NPower Services
X-ORIGINAL-URL:https://npowerservices.com
X-WR-CALDESC:Events for NPower Services
REFRESH-INTERVAL;VALUE=DURATION:PT1H
X-Robots-Tag:noindex
X-PUBLISHED-TTL:PT1H
BEGIN:VTIMEZONE
TZID:America/New_York
BEGIN:DAYLIGHT
TZOFFSETFROM:-0500
TZOFFSETTO:-0400
TZNAME:EDT
DTSTART:20250309T070000
END:DAYLIGHT
BEGIN:STANDARD
TZOFFSETFROM:-0400
TZOFFSETTO:-0500
TZNAME:EST
DTSTART:20251102T060000
END:STANDARD
BEGIN:DAYLIGHT
TZOFFSETFROM:-0500
TZOFFSETTO:-0400
TZNAME:EDT
DTSTART:20260308T070000
END:DAYLIGHT
BEGIN:STANDARD
TZOFFSETFROM:-0400
TZOFFSETTO:-0500
TZNAME:EST
DTSTART:20261101T060000
END:STANDARD
BEGIN:DAYLIGHT
TZOFFSETFROM:-0500
TZOFFSETTO:-0400
TZNAME:EDT
DTSTART:20270314T070000
END:DAYLIGHT
BEGIN:STANDARD
TZOFFSETFROM:-0400
TZOFFSETTO:-0500
TZNAME:EST
DTSTART:20271107T060000
END:STANDARD
END:VTIMEZONE
BEGIN:VEVENT
DTSTART;TZID=America/New_York:20260430T180000
DTEND;TZID=America/New_York:20260430T193000
DTSTAMP:20260419T100418
CREATED:20260417T153102Z
LAST-MODIFIED:20260417T154201Z
UID:10002617-1777572000-1777577400@npowerservices.com
SUMMARY:Next Level Social: Ice Cream Social
DESCRIPTION:Hey NLS! We’re having a low-key\, high-fun evening at Mitchell’s Ice Cream in Beachwood. Just show up\, buy your favorite scoop (or two!) and hang out with your buddies! \nReminder\, Next Level Social events are for: \n\nAges 21+\nMust have high-school diploma or GED\nFor adults on the spectrum with a high level of independence\nMust be able to engage in appropriate adult conversations\nMust work at least 20 hours per week or be a full-time college student\nComplete the eligibility form at NPowerServices.com
URL:https://npowerservices.com/event/next-level-social-ice-cream-social/
LOCATION:Mitchell’s Ice Cream Beachwood\, 2101 Richmond Road\, Beachwood\, OH\, 44122\, United States
ORGANIZER;CN="NPower Services":MAILTO:lori@npowerservices.com
END:VEVENT
END:VCALENDAR