BEGIN:VCALENDAR
VERSION:2.0
PRODID:-//NPower Services - ECPv6.15.20//NONSGML v1.0//EN
CALSCALE:GREGORIAN
METHOD:PUBLISH
X-WR-CALNAME:NPower Services
X-ORIGINAL-URL:https://npowerservices.com
X-WR-CALDESC:Events for NPower Services
REFRESH-INTERVAL;VALUE=DURATION:PT1H
X-Robots-Tag:noindex
X-PUBLISHED-TTL:PT1H
BEGIN:VTIMEZONE
TZID:America/New_York
BEGIN:DAYLIGHT
TZOFFSETFROM:-0500
TZOFFSETTO:-0400
TZNAME:EDT
DTSTART:20250309T070000
END:DAYLIGHT
BEGIN:STANDARD
TZOFFSETFROM:-0400
TZOFFSETTO:-0500
TZNAME:EST
DTSTART:20251102T060000
END:STANDARD
BEGIN:DAYLIGHT
TZOFFSETFROM:-0500
TZOFFSETTO:-0400
TZNAME:EDT
DTSTART:20260308T070000
END:DAYLIGHT
BEGIN:STANDARD
TZOFFSETFROM:-0400
TZOFFSETTO:-0500
TZNAME:EST
DTSTART:20261101T060000
END:STANDARD
BEGIN:DAYLIGHT
TZOFFSETFROM:-0500
TZOFFSETTO:-0400
TZNAME:EDT
DTSTART:20270314T070000
END:DAYLIGHT
BEGIN:STANDARD
TZOFFSETFROM:-0400
TZOFFSETTO:-0500
TZNAME:EST
DTSTART:20271107T060000
END:STANDARD
END:VTIMEZONE
BEGIN:VEVENT
DTSTART;TZID=America/New_York:20260312T170000
DTEND;TZID=America/New_York:20260312T183000
DTSTAMP:20260420T021629
CREATED:20260116T210226Z
LAST-MODIFIED:20260225T182730Z
UID:10002435-1773334800-1773340200@npowerservices.com
SUMMARY:Project: Kindness - Kindness in Motion with Taproot Yoga
DESCRIPTION:Shake your shamrocks and soften your heart! Project: Kindness and Taproot Yoga are blending mindful movement with a kindness card craft. We’ll spend time practicing guided breathing and movement techniques designed to help us all feel our best. Then\, we’ll spread the joy as we create a magical kindness card for a local senior. NPower will deliver your cards to a local Senior Center and we’ll spread joy across Geauga just in time for St. Patrick’s Day! \n \n 
URL:https://npowerservices.com/event/project-kindness-kindness-in-motion/
LOCATION:Taproot Yoga\, 131 Wilson Mills Road\, Chardon\, OH\, 44024\, United States
ORGANIZER;CN="NPower Services":MAILTO:lori@npowerservices.com
END:VEVENT
END:VCALENDAR