BEGIN:VCALENDAR
VERSION:2.0
PRODID:-//NPower Services - ECPv6.15.20//NONSGML v1.0//EN
CALSCALE:GREGORIAN
METHOD:PUBLISH
X-WR-CALNAME:NPower Services
X-ORIGINAL-URL:https://npowerservices.com
X-WR-CALDESC:Events for NPower Services
REFRESH-INTERVAL;VALUE=DURATION:PT1H
X-Robots-Tag:noindex
X-PUBLISHED-TTL:PT1H
BEGIN:VTIMEZONE
TZID:America/New_York
BEGIN:DAYLIGHT
TZOFFSETFROM:-0500
TZOFFSETTO:-0400
TZNAME:EDT
DTSTART:20250309T070000
END:DAYLIGHT
BEGIN:STANDARD
TZOFFSETFROM:-0400
TZOFFSETTO:-0500
TZNAME:EST
DTSTART:20251102T060000
END:STANDARD
BEGIN:DAYLIGHT
TZOFFSETFROM:-0500
TZOFFSETTO:-0400
TZNAME:EDT
DTSTART:20260308T070000
END:DAYLIGHT
BEGIN:STANDARD
TZOFFSETFROM:-0400
TZOFFSETTO:-0500
TZNAME:EST
DTSTART:20261101T060000
END:STANDARD
BEGIN:DAYLIGHT
TZOFFSETFROM:-0500
TZOFFSETTO:-0400
TZNAME:EDT
DTSTART:20270314T070000
END:DAYLIGHT
BEGIN:STANDARD
TZOFFSETFROM:-0400
TZOFFSETTO:-0500
TZNAME:EST
DTSTART:20271107T060000
END:STANDARD
END:VTIMEZONE
BEGIN:VEVENT
DTSTART;TZID=America/New_York:20260227T180000
DTEND;TZID=America/New_York:20260227T203000
DTSTAMP:20260420T074411
CREATED:20260113T023126Z
LAST-MODIFIED:20260218T161517Z
UID:10002434-1772215200-1772224200@npowerservices.com
SUMMARY:CANCELLED: FolkAbility Plays Hearts for Inclusion
DESCRIPTION:Cancelled due to low ticket sales.\nFolkAbility is bringing its blend of chill folk music to Northfield for Positivity Spectrum’s “Hearts for Inclusion” event! Learn more and get tickets: https://thepositivityspectrum.org/ \nFrom their website: \nThe Hearts for Inclusion Reveal Party is a joyful celebration bringing our community together to honor and support autistic children and adults. This special event unveils the artwork created by the purchases of hearts by families\, supporters\, and local partners—all centered on love\, acceptance\, and inclusion. \nGuests will enjoy heavy appetizers\, alcoholic and non-alcoholic beverages\, and tasty desserts. \nThe evening highlights the strength and creativity of our community and raises essential funds to expand inclusive opportunities for neurodivergent individuals. It is a warm\, meaningful gathering that reminds everyone that inclusion is something we build—and celebrate—together. \nTickets are $50
URL:https://npowerservices.com/event/folkability-plays-hearts-for-inclusion/
LOCATION:VFW Hall Northfield\, 8584 Olde 8 Rd\, Northfield\, Ohio\, 44067\, United States
ORGANIZER;CN="NPower Services":MAILTO:lori@npowerservices.com
END:VEVENT
END:VCALENDAR